BEGIN:VCALENDAR
VERSION:2.0
PRODID:-//Tomodachi Taiko - ECPv6.15.18//NONSGML v1.0//EN
CALSCALE:GREGORIAN
METHOD:PUBLISH
X-WR-CALNAME:Tomodachi Taiko
X-ORIGINAL-URL:https://tomodachitaiko.nl
X-WR-CALDESC:Evenementen voor Tomodachi Taiko
REFRESH-INTERVAL;VALUE=DURATION:PT1H
X-Robots-Tag:noindex
X-PUBLISHED-TTL:PT1H
BEGIN:VTIMEZONE
TZID:UTC
BEGIN:STANDARD
TZOFFSETFROM:+0000
TZOFFSETTO:+0000
TZNAME:UTC
DTSTART:20230101T000000
END:STANDARD
END:VTIMEZONE
BEGIN:VEVENT
DTSTART;TZID=UTC:20240817T130000
DTEND;TZID=UTC:20240817T163000
DTSTAMP:20260421T111633
CREATED:20240223T140642Z
LAST-MODIFIED:20240223T140642Z
UID:1261-1723899600-1723912200@tomodachitaiko.nl
SUMMARY:Rijsbergse Vliegerdagen 2024
DESCRIPTION:Ook dit jaar zijn we op zaterdagmiddag weer te vinden op en rond het terras van de Rijsbergse Vliegerdagen. \nEr zijn diversen optredens en probeermomenten.
URL:https://tomodachitaiko.nl/event/rijsbergse-vliegerdagen-2024/
CATEGORIES:Optreden
END:VEVENT
END:VCALENDAR