BEGIN:VCALENDAR
VERSION:2.0
PRODID:-//Tomodachi Taiko - ECPv6.15.18//NONSGML v1.0//EN
CALSCALE:GREGORIAN
METHOD:PUBLISH
X-WR-CALNAME:Tomodachi Taiko
X-ORIGINAL-URL:https://tomodachitaiko.nl
X-WR-CALDESC:Evenementen voor Tomodachi Taiko
REFRESH-INTERVAL;VALUE=DURATION:PT1H
X-Robots-Tag:noindex
X-PUBLISHED-TTL:PT1H
BEGIN:VTIMEZONE
TZID:UTC
BEGIN:STANDARD
TZOFFSETFROM:+0000
TZOFFSETTO:+0000
TZNAME:UTC
DTSTART:20230101T000000
END:STANDARD
END:VTIMEZONE
BEGIN:VEVENT
DTSTART;TZID=UTC:20240615T120000
DTEND;TZID=UTC:20240615T170000
DTSTAMP:20260421T152732
CREATED:20240223T140449Z
LAST-MODIFIED:20240223T140449Z
UID:1259-1718452800-1718470800@tomodachitaiko.nl
SUMMARY:Slagwerkfestival Reeshof
DESCRIPTION:Op zaterdagmiddag 15 juni 2024 treden we op tijdens het Slagwerkfestival in Winkelcentrum Heyhoef in de Reeshof te Tilburg. \nTijdens de middag zijn er verschillende optredens\, van ons\, maar ook van andere slagwerkgroepen.
URL:https://tomodachitaiko.nl/event/slagwerkfestival-reeshof/
LOCATION:Tilburg\, Tilburg\, Nederland
CATEGORIES:Optreden
END:VEVENT
END:VCALENDAR