BEGIN:VCALENDAR
VERSION:2.0
PRODID:-//Tomodachi Taiko - ECPv6.15.18//NONSGML v1.0//EN
CALSCALE:GREGORIAN
METHOD:PUBLISH
X-ORIGINAL-URL:https://tomodachitaiko.nl
X-WR-CALDESC:Evenementen voor Tomodachi Taiko
REFRESH-INTERVAL;VALUE=DURATION:PT1H
X-Robots-Tag:noindex
X-PUBLISHED-TTL:PT1H
BEGIN:VTIMEZONE
TZID:UTC
BEGIN:STANDARD
TZOFFSETFROM:+0000
TZOFFSETTO:+0000
TZNAME:UTC
DTSTART:20220101T000000
END:STANDARD
END:VTIMEZONE
BEGIN:VEVENT
DTSTART;TZID=UTC:20230702T140000
DTEND;TZID=UTC:20230702T180000
DTSTAMP:20260422T065543
CREATED:20230410T125740Z
LAST-MODIFIED:20230629T161453Z
UID:940-1688306400-1688320800@tomodachitaiko.nl
SUMMARY:Gluren bij de Buren
DESCRIPTION:Dit jaar spelen we aan de Dreef 51 te Breda. \nWe treden op om 14.30 – 16.00 – 17.30 uur. \nKom gezellig kijken!
URL:https://tomodachitaiko.nl/event/gluren-bij-de-buren/
LOCATION:Breda\, Breda\, Nederland
CATEGORIES:Optreden
END:VEVENT
END:VCALENDAR