BEGIN:VCALENDAR
VERSION:2.0
PRODID:-//Tomodachi Taiko - ECPv6.15.18//NONSGML v1.0//EN
CALSCALE:GREGORIAN
METHOD:PUBLISH
X-WR-CALNAME:Tomodachi Taiko
X-ORIGINAL-URL:https://tomodachitaiko.nl
X-WR-CALDESC:Evenementen voor Tomodachi Taiko
REFRESH-INTERVAL;VALUE=DURATION:PT1H
X-Robots-Tag:noindex
X-PUBLISHED-TTL:PT1H
BEGIN:VTIMEZONE
TZID:UTC
BEGIN:STANDARD
TZOFFSETFROM:+0000
TZOFFSETTO:+0000
TZNAME:UTC
DTSTART:20220101T000000
END:STANDARD
END:VTIMEZONE
BEGIN:VEVENT
DTSTART;TZID=UTC:20230609T130000
DTEND;TZID=UTC:20230609T140000
DTSTAMP:20260422T081545
CREATED:20230410T125532Z
LAST-MODIFIED:20230410T125532Z
UID:938-1686315600-1686319200@tomodachitaiko.nl
SUMMARY:Optreden De Koperakker
DESCRIPTION:Een besloten optreden voor de leerlingen van Basisschool De Koperakker.
URL:https://tomodachitaiko.nl/event/optreden-de-koperakker/
LOCATION:Rijsbergen\, Nederland
CATEGORIES:Optreden
END:VEVENT
END:VCALENDAR