BEGIN:VCALENDAR
VERSION:2.0
PRODID:-//Tomodachi Taiko - ECPv6.15.18//NONSGML v1.0//EN
CALSCALE:GREGORIAN
METHOD:PUBLISH
X-ORIGINAL-URL:https://tomodachitaiko.nl
X-WR-CALDESC:Evenementen voor Tomodachi Taiko
REFRESH-INTERVAL;VALUE=DURATION:PT1H
X-Robots-Tag:noindex
X-PUBLISHED-TTL:PT1H
BEGIN:VTIMEZONE
TZID:UTC
BEGIN:STANDARD
TZOFFSETFROM:+0000
TZOFFSETTO:+0000
TZNAME:UTC
DTSTART:20220101T000000
END:STANDARD
END:VTIMEZONE
BEGIN:VEVENT
DTSTART;TZID=UTC:20230604T130000
DTEND;TZID=UTC:20230604T170000
DTSTAMP:20260422T081654
CREATED:20221230T180938Z
LAST-MODIFIED:20221230T181131Z
UID:830-1685883600-1685898000@tomodachitaiko.nl
SUMMARY:Open les middag
DESCRIPTION:Tijdens deze open les middag laten de leden van Tomodachi Taiko zien wat ze afgelopen jaar geleerd hebben. \nPubliek is welkom vanaf 14.30 uur tot 16.00 uur. \nTijden nog onder voorbehoud!!
URL:https://tomodachitaiko.nl/event/open-les-middag/
LOCATION:Koutershof\, Koutershof 4\, Rijsbergen\, 4891 CV\, Nederland
CATEGORIES:Niveau 1-2-3,Optreden
END:VEVENT
END:VCALENDAR