BEGIN:VCALENDAR
VERSION:2.0
PRODID:-//Tomodachi Taiko - ECPv6.15.18//NONSGML v1.0//EN
CALSCALE:GREGORIAN
METHOD:PUBLISH
X-ORIGINAL-URL:https://tomodachitaiko.nl
X-WR-CALDESC:Evenementen voor Tomodachi Taiko
REFRESH-INTERVAL;VALUE=DURATION:PT1H
X-Robots-Tag:noindex
X-PUBLISHED-TTL:PT1H
BEGIN:VTIMEZONE
TZID:UTC
BEGIN:STANDARD
TZOFFSETFROM:+0000
TZOFFSETTO:+0000
TZNAME:UTC
DTSTART:20220101T000000
END:STANDARD
END:VTIMEZONE
BEGIN:VEVENT
DTSTART;TZID=UTC:20230819T130000
DTEND;TZID=UTC:20230819T170000
DTSTAMP:20260422T042006
CREATED:20230410T130246Z
LAST-MODIFIED:20230410T130246Z
UID:943-1692450000-1692464400@tomodachitaiko.nl
SUMMARY:Rijsbergse Vliegerdagen
DESCRIPTION:Gedurende de middag zijn er diversen optredens en korte workshops. \n 
URL:https://tomodachitaiko.nl/event/rijsbergse-vliegerdagen/
CATEGORIES:Optreden
END:VEVENT
END:VCALENDAR