BEGIN:VCALENDAR
VERSION:2.0
PRODID:-//Tomodachi Taiko - ECPv6.15.18//NONSGML v1.0//EN
CALSCALE:GREGORIAN
METHOD:PUBLISH
X-ORIGINAL-URL:https://tomodachitaiko.nl
X-WR-CALDESC:Evenementen voor Tomodachi Taiko
REFRESH-INTERVAL;VALUE=DURATION:PT1H
X-Robots-Tag:noindex
X-PUBLISHED-TTL:PT1H
BEGIN:VTIMEZONE
TZID:UTC
BEGIN:STANDARD
TZOFFSETFROM:+0000
TZOFFSETTO:+0000
TZNAME:UTC
DTSTART:20230101T000000
END:STANDARD
END:VTIMEZONE
BEGIN:VEVENT
DTSTART;TZID=UTC:20240620T190000
DTEND;TZID=UTC:20240620T210000
DTSTAMP:20260422T224355
CREATED:20230905T165536Z
LAST-MODIFIED:20240302T182555Z
UID:1143-1718910000-1718917200@tomodachitaiko.nl
SUMMARY:Open les avond
DESCRIPTION:Open les avond\, tijdens deze middag laten de leden zien wat ze afgelopen les jaar geleerd hebben. \nIedereen is hierbij van harte welkom. \nMeer info volgt later!
URL:https://tomodachitaiko.nl/event/open-les-middag-2/
LOCATION:Koutershof\, Koutershof 4\, Rijsbergen\, 4891 CV\, Nederland
CATEGORIES:Niveau 1,Niveau 2,Niveau 3-4
END:VEVENT
END:VCALENDAR